BEGIN:VCALENDAR
VERSION:2.0
PRODID:-//Places To Go With Kids - ECPv6.15.20//NONSGML v1.0//EN
CALSCALE:GREGORIAN
METHOD:PUBLISH
X-ORIGINAL-URL:https://placestogowithkids.com.au
X-WR-CALDESC:Events for Places To Go With Kids
REFRESH-INTERVAL;VALUE=DURATION:PT1H
X-Robots-Tag:noindex
X-PUBLISHED-TTL:PT1H
BEGIN:VTIMEZONE
TZID:Australia/Melbourne
BEGIN:STANDARD
TZOFFSETFROM:+1100
TZOFFSETTO:+1000
TZNAME:AEST
DTSTART:20240406T160000
END:STANDARD
BEGIN:DAYLIGHT
TZOFFSETFROM:+1000
TZOFFSETTO:+1100
TZNAME:AEDT
DTSTART:20241005T160000
END:DAYLIGHT
BEGIN:STANDARD
TZOFFSETFROM:+1100
TZOFFSETTO:+1000
TZNAME:AEST
DTSTART:20250405T160000
END:STANDARD
BEGIN:DAYLIGHT
TZOFFSETFROM:+1000
TZOFFSETTO:+1100
TZNAME:AEDT
DTSTART:20251004T160000
END:DAYLIGHT
BEGIN:STANDARD
TZOFFSETFROM:+1100
TZOFFSETTO:+1000
TZNAME:AEST
DTSTART:20260404T160000
END:STANDARD
BEGIN:DAYLIGHT
TZOFFSETFROM:+1000
TZOFFSETTO:+1100
TZNAME:AEDT
DTSTART:20261003T160000
END:DAYLIGHT
BEGIN:STANDARD
TZOFFSETFROM:+1100
TZOFFSETTO:+1000
TZNAME:AEST
DTSTART:20270403T160000
END:STANDARD
BEGIN:DAYLIGHT
TZOFFSETFROM:+1000
TZOFFSETTO:+1100
TZNAME:AEDT
DTSTART:20271002T160000
END:DAYLIGHT
END:VTIMEZONE
BEGIN:VEVENT
DTSTART;TZID=Australia/Melbourne:20251231T180000
DTEND;TZID=Australia/Melbourne:20260101T010000
DTSTAMP:20260420T094829
CREATED:20251211T113345Z
LAST-MODIFIED:20260409T205307Z
UID:14178-1767204000-1767229200@placestogowithkids.com.au
SUMMARY:Melbourne New Year’s Eve 2025 Fireworks - VIC
DESCRIPTION:Celebrate the start of 2025 with a bang at the iconic Melbourne NYE Fireworks!  As the clock strikes midnight\, the city’s skyline comes alive with a stunning display of fireworks\, lighting up the night sky over the Yarra River.  For families with young children\, there’s also an early fireworks show at 9:30 PM\, offering a kid-friendly option to enjoy the spectacular display without staying up too late.  With multiple viewing spots across the city\, including Federation Square\, Southbank\, and along the riverfront\, Melbourne offers an unforgettable experience for both locals and visitors alike.  The fireworks are accompanied by music\, creating a vibrant atmosphere that’s perfect for welcoming the new year.  Whether you’re enjoying a night out with friends or spending time with family\, Melbourne’s NYE fireworks are a must-see event to ring in 2025 in style.
URL:https://placestogowithkids.com.au/event/melbourne-nye-2025-fireworks/
LOCATION:Kings Domain\, Kings Domain
ATTACH;FMTTYPE=image/jpeg:https://placestogowithkids.com.au/wp-content/uploads/2025/12/tmpplaceholder.jpg
END:VEVENT
END:VCALENDAR