BEGIN:VCALENDAR
VERSION:2.0
PRODID:-//Places To Go With Kids - ECPv6.15.20//NONSGML v1.0//EN
CALSCALE:GREGORIAN
METHOD:PUBLISH
X-ORIGINAL-URL:https://placestogowithkids.com.au
X-WR-CALDESC:Events for Places To Go With Kids
REFRESH-INTERVAL;VALUE=DURATION:PT1H
X-Robots-Tag:noindex
X-PUBLISHED-TTL:PT1H
BEGIN:VTIMEZONE
TZID:Australia/Brisbane
BEGIN:STANDARD
TZOFFSETFROM:+1000
TZOFFSETTO:+1000
TZNAME:AEST
DTSTART:20250101T000000
END:STANDARD
END:VTIMEZONE
BEGIN:VTIMEZONE
TZID:Australia/Melbourne
BEGIN:STANDARD
TZOFFSETFROM:+1100
TZOFFSETTO:+1000
TZNAME:AEST
DTSTART:20250405T160000
END:STANDARD
BEGIN:DAYLIGHT
TZOFFSETFROM:+1000
TZOFFSETTO:+1100
TZNAME:AEDT
DTSTART:20251004T160000
END:DAYLIGHT
BEGIN:STANDARD
TZOFFSETFROM:+1100
TZOFFSETTO:+1000
TZNAME:AEST
DTSTART:20260404T160000
END:STANDARD
BEGIN:DAYLIGHT
TZOFFSETFROM:+1000
TZOFFSETTO:+1100
TZNAME:AEDT
DTSTART:20261003T160000
END:DAYLIGHT
BEGIN:STANDARD
TZOFFSETFROM:+1100
TZOFFSETTO:+1000
TZNAME:AEST
DTSTART:20270403T160000
END:STANDARD
BEGIN:DAYLIGHT
TZOFFSETFROM:+1000
TZOFFSETTO:+1100
TZNAME:AEDT
DTSTART:20271002T160000
END:DAYLIGHT
END:VTIMEZONE
BEGIN:VEVENT
DTSTART;VALUE=DATE:20260514
DTEND;VALUE=DATE:20260518
DTSTAMP:20260420T022213
CREATED:20260215T190759Z
LAST-MODIFIED:20260409T205105Z
UID:14546-1778716800-1779062399@placestogowithkids.com.au
SUMMARY:Blues on Broadbeach Gold Coast - QLD
DESCRIPTION:
URL:https://placestogowithkids.com.au/event/blues-on-broadbeach-gold-coast/
END:VEVENT
BEGIN:VEVENT
DTSTART;VALUE=DATE:20260723
DTEND;VALUE=DATE:20260727
DTSTAMP:20260420T022213
CREATED:20260318T174122Z
LAST-MODIFIED:20260409T205033Z
UID:14568-1784764800-1785110399@placestogowithkids.com.au
SUMMARY:Echuca Moama Winter Blues Festival- VIC
DESCRIPTION:The Echuca Moama Winter Blues Festival returns again in July.  Other than the Wrap up party\, the festival is free to attend.  On Saturday and Sunday between 10am and 3pm Hopwood Gardens will have family friendly activities.
URL:https://placestogowithkids.com.au/event/echuca-moama-winter-blues-festival/
END:VEVENT
END:VCALENDAR